BEGIN:VCALENDAR
VERSION:2.0
PRODID:-//Anne Erlewine - ECPv6.15.20//NONSGML v1.0//EN
CALSCALE:GREGORIAN
METHOD:PUBLISH
X-ORIGINAL-URL:https://anneerlewine.art
X-WR-CALDESC:Events for Anne Erlewine
REFRESH-INTERVAL;VALUE=DURATION:PT1H
X-Robots-Tag:noindex
X-PUBLISHED-TTL:PT1H
BEGIN:VTIMEZONE
TZID:America/Detroit
BEGIN:DAYLIGHT
TZOFFSETFROM:-0500
TZOFFSETTO:-0400
TZNAME:EDT
DTSTART:20240310T070000
END:DAYLIGHT
BEGIN:STANDARD
TZOFFSETFROM:-0400
TZOFFSETTO:-0500
TZNAME:EST
DTSTART:20241103T060000
END:STANDARD
BEGIN:DAYLIGHT
TZOFFSETFROM:-0500
TZOFFSETTO:-0400
TZNAME:EDT
DTSTART:20250309T070000
END:DAYLIGHT
BEGIN:STANDARD
TZOFFSETFROM:-0400
TZOFFSETTO:-0500
TZNAME:EST
DTSTART:20251102T060000
END:STANDARD
BEGIN:DAYLIGHT
TZOFFSETFROM:-0500
TZOFFSETTO:-0400
TZNAME:EDT
DTSTART:20260308T070000
END:DAYLIGHT
BEGIN:STANDARD
TZOFFSETFROM:-0400
TZOFFSETTO:-0500
TZNAME:EST
DTSTART:20261101T060000
END:STANDARD
END:VTIMEZONE
BEGIN:VEVENT
DTSTART;TZID=America/Detroit:20250905T000000
DTEND;TZID=America/Detroit:20250907T235959
DTSTAMP:20260420T040247
CREATED:20250519T012315Z
LAST-MODIFIED:20250519T012315Z
UID:674-1757030400-1757289599@anneerlewine.art
SUMMARY:A Fair in the Park
DESCRIPTION:Find me in Pittsburgh\, Pennsylvania\, for A Fair in the Park a contemporary fine art and fine craft festival. This show runs September 6 – September 7\, 2025. \nFriday: 1pm – 7pm\nSaturday: 10am – 7pm\nSunday: 10am – 5pm
URL:https://anneerlewine.art/event/a-fair-in-the-park/
LOCATION:Mellon Park\, 1036 Beechwood Blvd\, Pittsburgh\, PA\, 15206
CATEGORIES:Art
END:VEVENT
BEGIN:VEVENT
DTSTART;TZID=America/Detroit:20250822T000000
DTEND;TZID=America/Detroit:20250824T235959
DTSTAMP:20260420T040247
CREATED:20250519T011754Z
LAST-MODIFIED:20250519T011754Z
UID:671-1755820800-1756079999@anneerlewine.art
SUMMARY:Brighton Street Art Fair
DESCRIPTION:I will be presenting my art at the Brighton Street Art Fair in downtown Brighton\, Michigan. \nFriday\, August 22: 5pm – 8pm\nSaturday\, August 23: 10am – 8pm\nSunday\, August 24: 10am – 4pm
URL:https://anneerlewine.art/event/brighton-street-art-fair/
LOCATION:Downtown Brighton\, Brighton\, MI
CATEGORIES:Art
END:VEVENT
BEGIN:VEVENT
DTSTART;TZID=America/Detroit:20250809T090000
DTEND;TZID=America/Detroit:20250809T180000
DTSTAMP:20260420T040247
CREATED:20250519T011448Z
LAST-MODIFIED:20250519T011501Z
UID:667-1754730000-1754762400@anneerlewine.art
SUMMARY:Charlevoix Waterfront Art Fair
DESCRIPTION:Join me on the waterfront in Charlevoix\, Michigan\, for this one-day art fair\, August 9\, 2025.
URL:https://anneerlewine.art/event/charlevoix-waterfront-art-fair/
LOCATION:East Park\, Downtown Charlevoix\, 210 State St\, Charlevoix\, MI\, 49720
CATEGORIES:Art
ATTACH;FMTTYPE=image/jpeg:https://anneerlewine.art/wp-content/uploads/2025/05/charlevoix.jpeg
END:VEVENT
BEGIN:VEVENT
DTSTART;TZID=America/Detroit:20250802T000000
DTEND;TZID=America/Detroit:20250803T235959
DTSTAMP:20260420T040247
CREATED:20250519T010931Z
LAST-MODIFIED:20250519T010931Z
UID:664-1754092800-1754265599@anneerlewine.art
SUMMARY:Suttons Bay Art Festival
DESCRIPTION:Join me at the Suttons Bay Art Fair in Sutton’s Bay\, Michigan\, August 2 and August 3\, 2025.
URL:https://anneerlewine.art/event/suttons-bay-art-festival/
LOCATION:Suttons Bay Marina Park\, 326 Front St.\, Suttons Bay\, MI\, 49682
CATEGORIES:Art
END:VEVENT
BEGIN:VEVENT
DTSTART;TZID=America/Detroit:20250717T000000
DTEND;TZID=America/Detroit:20250719T235959
DTSTAMP:20260420T040247
CREATED:20250519T010503Z
LAST-MODIFIED:20250519T010503Z
UID:661-1752710400-1752969599@anneerlewine.art
SUMMARY:Ann Arbor Art Fair
DESCRIPTION:Find me and my art in The Original Ann Arbor Street Art Fair in downtown Ann Arbor\, Michigan\, this summer. \nThursday\, July 17: 10am – 9pm\nFriday\, July 18: 10am – 9pm\nSaturday\, July 19: 10am – 8pm
URL:https://anneerlewine.art/event/ann-arbor-art-fair/
LOCATION:Downtown Ann Arbor\, Ann Arbor\, MI
CATEGORIES:Art
END:VEVENT
BEGIN:VEVENT
DTSTART;TZID=America/Detroit:20250712T000000
DTEND;TZID=America/Detroit:20250713T235959
DTSTAMP:20260420T040247
CREATED:20250519T010115Z
LAST-MODIFIED:20250519T010236Z
UID:656-1752278400-1752451199@anneerlewine.art
SUMMARY:Art Fair on the Square
DESCRIPTION:My art and I will be On The Square at the Madison Museum of Contemporary Art for the Art Fair on the Square. Join us in Madison\, Wisconsin\, July 12 – July 13\, 2025. \nSaturday\, July 12\, 2025 (9 AM–6 PM)\nSunday\, July 13\, 2025 (10 AM–5 PM)
URL:https://anneerlewine.art/event/art-fair-on-the-square/
LOCATION:Capitol Square\, 2 E Main St\, Madison\, WI\, 53703
CATEGORIES:Art
ATTACH;FMTTYPE=image/jpeg:https://anneerlewine.art/wp-content/uploads/2025/05/Maurice-Thaler.jpg
END:VEVENT
BEGIN:VEVENT
DTSTART;TZID=America/Detroit:20250628T000000
DTEND;TZID=America/Detroit:20250629T235959
DTSTAMP:20260420T040247
CREATED:20250519T005340Z
LAST-MODIFIED:20250519T005533Z
UID:652-1751068800-1751241599@anneerlewine.art
SUMMARY:Crosby Festival of the Arts
DESCRIPTION:I will be at the Crosby Festival of the Arts in Toledo\, Ohio. Join me June 28 and June 29\, 2025. \nTickets are available online or at the gate.
URL:https://anneerlewine.art/event/crosby-festival-of-the-arts/
LOCATION:Toledo Botanical Garden\, 5403 Elmer Dr\, Toledo\, OH\, 43615
CATEGORIES:Art
ORGANIZER;CN="Toledo GROWs":MAILTO:info@toledogrows.org
END:VEVENT
BEGIN:VEVENT
DTSTART;TZID=America/Detroit:20250613T000000
DTEND;TZID=America/Detroit:20250615T235959
DTSTAMP:20260420T040247
CREATED:20250519T000008Z
LAST-MODIFIED:20250519T000008Z
UID:645-1749772800-1750031999@anneerlewine.art
SUMMARY:Lakefront Festival of Art
DESCRIPTION:The Milwaukee Art Museum will be hosting me at the Lakefront Festival of Art. Come see me and my art in Milwaukee\, Wisconsin\, June 13 – June 15\, 2025. \nFriday: 10am – 7pm\nSaturday: 10am – 5pm\nSunday: 10am – 5pm \nWith 30 more artist booths this year\, there’s even more to explore and enjoy. Discover and purchase one-of-a-kind art from 145 jury-selected artists from across the country and Wisconsin; enjoy live performances by local acts; dine on delicious food; relax in the wine and beer gardens; and try your hand at fun art projects. \nTickets are available online or at the gate.
URL:https://anneerlewine.art/event/lakefront-festival-of-art/
LOCATION:Milwaukee Art Museum\, 700 N. Art Museum Dr.\, Milwaukee\, WI\, 53202
CATEGORIES:Art
ORGANIZER;CN="Milwaukee Art Museum":MAILTO:mam@mam.org
END:VEVENT
BEGIN:VEVENT
DTSTART;TZID=America/Detroit:20250531T100000
DTEND;TZID=America/Detroit:20250601T170000
DTSTAMP:20260420T040247
CREATED:20250518T234644Z
LAST-MODIFIED:20250518T234644Z
UID:638-1748685600-1748797200@anneerlewine.art
SUMMARY:Midland Art Fair
DESCRIPTION:I will be presenting my work at the Midland Art Fair in Midland Michigan. The show runs May 31 – June 1\, 2025.
URL:https://anneerlewine.art/event/midland-art-fair/
LOCATION:Downtown Midland\, 1801 W. St. Andrews Rd\, Midland\, MI\, 48640
CATEGORIES:Art
ATTACH;FMTTYPE=image/jpeg:https://anneerlewine.art/wp-content/uploads/2025/05/saf-2025-fb-event-graphic-v13.jpg
ORGANIZER;CN="Midland Center for the Arts":MAILTO:info@midlandcenter.org
END:VEVENT
BEGIN:VEVENT
DTSTART;TZID=America/Detroit:20250530T000000
DTEND;TZID=America/Detroit:20250628T235959
DTSTAMP:20260420T040247
CREATED:20250518T213142Z
LAST-MODIFIED:20250518T233708Z
UID:623-1748563200-1751155199@anneerlewine.art
SUMMARY:Gutman Gallery Scapes Exhibit
DESCRIPTION:My art will be in the Scapes Exhibit at the Gutman Gallery from May 30 until June 28\, 2025. Come visit in Ann Arbor\, Michigan.
URL:https://anneerlewine.art/event/gutman-gallery-scapes-exhibit/
LOCATION:Gutman Gallery\, 118 N. 4th Ave\, Ann Arbor\, MI\, 48105
CATEGORIES:Art
ATTACH;FMTTYPE=image/jpeg:https://anneerlewine.art/wp-content/uploads/2025/05/Emerge-Opening.jpg
END:VEVENT
BEGIN:VEVENT
DTSTART;TZID=America/Detroit:20250521T180000
DTEND;TZID=America/Detroit:20250521T200000
DTSTAMP:20260420T040247
CREATED:20250519T012640Z
LAST-MODIFIED:20250519T012640Z
UID:677-1747850400-1747857600@anneerlewine.art
SUMMARY:Moth Eden Reception
DESCRIPTION:Meet me\, the artist\, at the “Moth Eden” reception on Wednesday May 21\, from 6 PM to 8 PM.  I’ll offer an opportunity to gain a deeper understanding of “Moth Eden.”
URL:https://anneerlewine.art/event/moth-eden-reception/
LOCATION:Matthaei Botanical Gardens\, 1800 N. Dixboro Rd\, Ann ARbor\, MI\, 48105\, United States
CATEGORIES:Art
ATTACH;FMTTYPE=image/jpeg:https://anneerlewine.art/wp-content/uploads/2024/09/TwoTrees.jpg
END:VEVENT
BEGIN:VEVENT
DTSTART;TZID=America/Detroit:20250517T000000
DTEND;TZID=America/Detroit:20250518T235959
DTSTAMP:20260420T040247
CREATED:20250518T234158Z
LAST-MODIFIED:20250518T234158Z
UID:635-1747440000-1747612799@anneerlewine.art
SUMMARY:East Lansing Art Festival
DESCRIPTION:I will be presenting my art at the East Lansing Art Fair in East Lansing\, Michigan. \nMay 17: 10am – 6pm\nMay 18: 10am – 5pm \nFind me in Booth 84.
URL:https://anneerlewine.art/event/east-lansing-art-festival/
LOCATION:Downtown East Lansing\, East Lansing\, MI
CATEGORIES:Art
END:VEVENT
BEGIN:VEVENT
DTSTART;TZID=America/Detroit:20250419T000000
DTEND;TZID=America/Detroit:20250706T235959
DTSTAMP:20260420T040247
CREATED:20250518T212110Z
LAST-MODIFIED:20250518T233037Z
UID:618-1745020800-1751846399@anneerlewine.art
SUMMARY:Moth Eden: Anne Erlewine Solo Exhibition
DESCRIPTION:Explore “Moth Eden\,” an art exhibit by Anne Erlewine\, running from April 19 to July 6\, 2025. ‘Moth Eden’ is a series of works exploring the relationship between the reverence of form depicted as abstract landscape and the interpretation of the ethereal realm as it pertains to form and figure.
URL:https://anneerlewine.art/event/moth-eden-anne-erlewine-solo-exhibition/
LOCATION:Matthaei Botanical Gardens\, 1800 N. Dixboro Rd\, Ann ARbor\, MI\, 48105\, United States
CATEGORIES:Art
ATTACH;FMTTYPE=image/jpeg:https://anneerlewine.art/wp-content/uploads/2024/09/TwoTrees.jpg
END:VEVENT
END:VCALENDAR